BEGIN:VCALENDAR
VERSION:2.0
PRODID:-//Le Lab Quantique - ECPv6.15.12.2//NONSGML v1.0//EN
CALSCALE:GREGORIAN
METHOD:PUBLISH
X-WR-CALNAME:Le Lab Quantique
X-ORIGINAL-URL:https://lelabquantique.com
X-WR-CALDESC:Events for Le Lab Quantique
REFRESH-INTERVAL;VALUE=DURATION:PT1H
X-Robots-Tag:noindex
X-PUBLISHED-TTL:PT1H
BEGIN:VTIMEZONE
TZID:Europe/Paris
BEGIN:DAYLIGHT
TZOFFSETFROM:+0100
TZOFFSETTO:+0200
TZNAME:CEST
DTSTART:20250330T010000
END:DAYLIGHT
BEGIN:STANDARD
TZOFFSETFROM:+0200
TZOFFSETTO:+0100
TZNAME:CET
DTSTART:20251026T010000
END:STANDARD
BEGIN:DAYLIGHT
TZOFFSETFROM:+0100
TZOFFSETTO:+0200
TZNAME:CEST
DTSTART:20260329T010000
END:DAYLIGHT
BEGIN:STANDARD
TZOFFSETFROM:+0200
TZOFFSETTO:+0100
TZNAME:CET
DTSTART:20261025T010000
END:STANDARD
BEGIN:DAYLIGHT
TZOFFSETFROM:+0100
TZOFFSETTO:+0200
TZNAME:CEST
DTSTART:20270328T010000
END:DAYLIGHT
BEGIN:STANDARD
TZOFFSETFROM:+0200
TZOFFSETTO:+0100
TZNAME:CET
DTSTART:20271031T010000
END:STANDARD
END:VTIMEZONE
BEGIN:VEVENT
DTSTART;TZID=Europe/Paris:20261115T000000
DTEND;TZID=Europe/Paris:20261120T235959
DTSTAMP:20260421T095233
CREATED:20260416T151527Z
LAST-MODIFIED:20260416T151614Z
UID:6284-1794700800-1795219199@lelabquantique.com
SUMMARY:2nd International Workshop on Software Frameworks and Workload Management on Quantum and HPC Ecosystems
DESCRIPTION:
URL:https://lelabquantique.com/event/2nd-international-workshop-on-software-frameworks-and-workload-management-on-quantum-and-hpc-ecosystems/
LOCATION:Chicago
END:VEVENT
BEGIN:VEVENT
DTSTART;TZID=Europe/Paris:20261117T000000
DTEND;TZID=Europe/Paris:20261118T235959
DTSTAMP:20260421T095233
CREATED:20260404T153900Z
LAST-MODIFIED:20260404T153947Z
UID:6212-1794873600-1795046399@lelabquantique.com
SUMMARY:World Quantum Cannes Festival
DESCRIPTION:
URL:https://lelabquantique.com/event/world-quantum-cannes-festival/
LOCATION:Cannes\, France
END:VEVENT
END:VCALENDAR